BEGIN:VCALENDAR
VERSION:2.0
PRODID:-//Fermaculture - ECPv6.15.20//NONSGML v1.0//EN
CALSCALE:GREGORIAN
METHOD:PUBLISH
X-WR-CALNAME:Fermaculture
X-ORIGINAL-URL:https://fermaculture.info
X-WR-CALDESC:Évènements pour Fermaculture
REFRESH-INTERVAL;VALUE=DURATION:PT1H
X-Robots-Tag:noindex
X-PUBLISHED-TTL:PT1H
BEGIN:VTIMEZONE
TZID:Europe/Brussels
BEGIN:DAYLIGHT
TZOFFSETFROM:+0100
TZOFFSETTO:+0200
TZNAME:CEST
DTSTART:20240331T010000
END:DAYLIGHT
BEGIN:STANDARD
TZOFFSETFROM:+0200
TZOFFSETTO:+0100
TZNAME:CET
DTSTART:20241027T010000
END:STANDARD
BEGIN:DAYLIGHT
TZOFFSETFROM:+0100
TZOFFSETTO:+0200
TZNAME:CEST
DTSTART:20250330T010000
END:DAYLIGHT
BEGIN:STANDARD
TZOFFSETFROM:+0200
TZOFFSETTO:+0100
TZNAME:CET
DTSTART:20251026T010000
END:STANDARD
BEGIN:DAYLIGHT
TZOFFSETFROM:+0100
TZOFFSETTO:+0200
TZNAME:CEST
DTSTART:20260329T010000
END:DAYLIGHT
BEGIN:STANDARD
TZOFFSETFROM:+0200
TZOFFSETTO:+0100
TZNAME:CET
DTSTART:20261025T010000
END:STANDARD
END:VTIMEZONE
BEGIN:VEVENT
DTSTART;TZID=Europe/Brussels:20250322T183000
DTEND;TZID=Europe/Brussels:20250322T223000
DTSTAMP:20260423T172400
CREATED:20241212T144343Z
LAST-MODIFIED:20250224T074845Z
UID:30922-1742668200-1742682600@fermaculture.info
SUMMARY:Clemix
DESCRIPTION:C’est sous forme d’électro pop très bien foutue qu’elle vient nous présenter son album « Endorphine »\, 10 chansons qui reflètent visiblement bien sa personnalité décomplexée et un caractère bien trempé. Arrangements sobres quand il s’agit de chansons plus intimes\, on aimera le coté Stromae pour les orchestrations et le texte ou encore Zaho de Sagazan. Clemix semble dans l’air du temps avec une électro pop fraîche et colorée à s’en décoller le ciel gris et bas du plat pays. \nAvec le soutien du Plan de Cohésion Sociale et Culturelle de la Ville de GEMBLOUX. \nhttps://clemixmusic.com/ \n  \nHORAIRE \nOuverture bar : 18h30 \nFood truck : 19h00 \nConcert : 20h00 \nRéservation tickets \nUn ticket entrée = accès concert + 1 ticket repas food truck \nEn prévente : Adulte = 30\,00 EUR\,  Etudiant = 20\,00 EUR\,  Enfant (≤ 11 ans) = 10\,00 EUR \nRéservation par paiement sur le compte BE46 1030 6660 6736 – Communication « nom de l’artiste + nombre de participants ». \nPaiement le jour du concert = + 5\,00 EUR.
URL:https://fermaculture.info/events/clemix/
LOCATION:Ferm)à(culture\, Rue de la Ferme 15\, Bossière\, Namur\, 5032\, Belgique
ATTACH;FMTTYPE=image/jpeg:https://fermaculture.info/wp-content/uploads/2024/12/ClemixFB.jpg
ORGANIZER;CN="Patrick Benoit":MAILTO:patrick@fermaculture.info
END:VEVENT
END:VCALENDAR